BEGIN:VCALENDAR
VERSION:2.0
PRODID:-//NOMA AZ - ECPv6.15.20//NONSGML v1.0//EN
CALSCALE:GREGORIAN
METHOD:PUBLISH
X-WR-CALNAME:NOMA AZ
X-ORIGINAL-URL:https://nomaarizona.org
X-WR-CALDESC:Events for NOMA AZ
REFRESH-INTERVAL;VALUE=DURATION:PT1H
X-Robots-Tag:noindex
X-PUBLISHED-TTL:PT1H
BEGIN:VTIMEZONE
TZID:America/Phoenix
BEGIN:STANDARD
TZOFFSETFROM:-0700
TZOFFSETTO:-0700
TZNAME:MST
DTSTART:20230101T000000
END:STANDARD
END:VTIMEZONE
BEGIN:VEVENT
DTSTART;TZID=America/Phoenix:20240213T180000
DTEND;TZID=America/Phoenix:20240213T191500
DTSTAMP:20260422T001748
CREATED:20240205T183623Z
LAST-MODIFIED:20240205T184008Z
UID:1998-1707847200-1707851700@nomaarizona.org
SUMMARY:Chapter Meeting - February 2024
DESCRIPTION:Mark your calendars for NEXT TUESDAY\, February 13th! Join us at Goodmans for our next chapter meeting\, as we share our upcoming events\, and the latest committee updates alongside an insightful presentation on Unconscious Bias from our guest speaker\, Adam Goodman. \nFeel free to bring a friend along\, as this free event is open to everyone\, including non-members. Refreshments will be provided! \nAttend In person or Virtually – Please RSVP by Friday\, 9th February \nNOTE: Parking available on site and building entrance will be at back of building (current front main entrance is under construction)
URL:https://nomaarizona.org/event/february-chapter-meeting/
LOCATION:Goodmans Interior Structures\, 1400 E Indian School Rd\, Phoenix\, AZ\, 85014\, United States
CATEGORIES:Chapter Meeting
ATTACH;FMTTYPE=image/jpeg:https://nomaarizona.org/wp-content/uploads/2024/02/February-Chapter-meeting-03-scaled.jpg
END:VEVENT
BEGIN:VEVENT
DTSTART;TZID=America/Phoenix:20240224T080000
DTEND;TZID=America/Phoenix:20240224T130000
DTSTAMP:20260422T001748
CREATED:20240122T001643Z
LAST-MODIFIED:20240224T041106Z
UID:1971-1708761600-1708779600@nomaarizona.org
SUMMARY:NOMAarizona Diversity Career Fair
DESCRIPTION:Join us for NOMA Arizona’s highly anticipated 4th Annual Diversity Career Fair. This event is your gateway to a world of possibilities – connect virtually with leading firms\, explore internship and employment opportunities\, and elevate your professional journey. \nThis will be a free hybrid event open to students at the University of Arizona and Arizona State University! \nSave the Date: FEBRUARY 24\, 2024! \nContact below to secure your spot! EXTENDED DEADLINE to RSVP is February 9th! \nBrooke Manriquez bmanriquez@arcadiainc.com  \nZahir Poonawala scholarships@nomaarizona.org \nParticipating Firms: \n\nArchitekton\nArrington Watkins\nA-R-T\nAyers Saint Gross\nBWS\nCotton Architecture\nDLR Group\nGensler\nGLHN\nHolly Street Studio\nJones Studio\nKrause\nLJC\nM Studio Architecture\nMerge Architectural Group\nMulti Studio\nOrcutt Winslow\nPerkins & Will\nPHX Architecture\nRichard Kennedy Architects\nRSP\nShepley Bulfinch\nSmith Group\nStudio Ma\nSwaim & Associates\nTaz Khatri Studios\nWare Malcomb\n\n 
URL:https://nomaarizona.org/event/nomaarizona-diversity-career-fair/
LOCATION:DLR Architects\, 6225 N 24th St # 250\, Phoenix\, AZ\, 85016\, United States
CATEGORIES:Networking
ATTACH;FMTTYPE=image/png:https://nomaarizona.org/wp-content/uploads/2024/01/NOMA-DCF-Final.png
END:VEVENT
BEGIN:VEVENT
DTSTART;TZID=America/Phoenix:20240224T100000
DTEND;TZID=America/Phoenix:20240224T113000
DTSTAMP:20260422T001748
CREATED:20240219T001042Z
LAST-MODIFIED:20240330T211118Z
UID:2070-1708768800-1708774200@nomaarizona.org
SUMMARY:Coffee Talk #2 - "Reflecting on Black Resilience"
DESCRIPTION:On February 24 \, NOMAarizona will be hosting a The Coffee Talk on Reflecting on Black\nResilience! Here\, we will share our stories\, learn from each other\, honor the founders of\nNOMA\, and much more. Come join us from 10am to 11:30 at Skoden Coffee and Tea in\nPhoenix to gather to discuss how our history\, resilience\, and drive has gotten us to where we\nare today!\nAbout the coffee shop : Skoden is a queer\, indigenous owned and ran coffee and tea shop with\nits first location being within the Navajo Nation. Skoden translates to “let’s go then\,” and aims to\noperate as an inclusive\, welcoming\, home-like space. This lovely shop pays tribute to their\nindigenous culture through their ingredients\, featured creatives\, and way of operation. We at\nNOMAarizona cannot wait to support Skoden Coffee and Tea while having an insightful\nconversation and BlacK Resilience! See you there!\nCurious about what Coffee Talks are? Coffee Talks are conversations organized by\nNOMAarizona that take place at revolving coffee shops around Arizona. Here\, we come\ntogether to share\, listen\, and learn in a casual setting. This is a place where topics both light\nand heavy can be discussed welcomingly while learning from different perspectives and joining\nin community. We encourage all to join in the conversation as we explore many topics and\ncoffee shops with NOMAarizona. \nRSVP Here
URL:https://nomaarizona.org/event/coffee-talk-reflecting-on-black-resilience/
LOCATION:Skoden Coffee & Tea\, 5102 N. Central Ave #5\, Phoenix\, AZ\, 85012\, United States
CATEGORIES:Coffee Talk
ATTACH;FMTTYPE=image/png:https://nomaarizona.org/wp-content/uploads/2024/02/Coffee-Talk-Flyer-Feb.24.png
END:VEVENT
END:VCALENDAR