BEGIN:VCALENDAR
VERSION:2.0
PRODID:-//NOMA AZ - ECPv6.15.20//NONSGML v1.0//EN
CALSCALE:GREGORIAN
METHOD:PUBLISH
X-WR-CALNAME:NOMA AZ
X-ORIGINAL-URL:https://nomaarizona.org
X-WR-CALDESC:Events for NOMA AZ
REFRESH-INTERVAL;VALUE=DURATION:PT1H
X-Robots-Tag:noindex
X-PUBLISHED-TTL:PT1H
BEGIN:VTIMEZONE
TZID:America/Phoenix
BEGIN:STANDARD
TZOFFSETFROM:-0700
TZOFFSETTO:-0700
TZNAME:MST
DTSTART:20220101T000000
END:STANDARD
END:VTIMEZONE
BEGIN:VEVENT
DTSTART;TZID=America/Phoenix:20230509T173000
DTEND;TZID=America/Phoenix:20230509T193000
DTSTAMP:20260423T111031
CREATED:20230425T213748Z
LAST-MODIFIED:20230505T235054Z
UID:1372-1683653400-1683660600@nomaarizona.org
SUMMARY:Chapter Meeting - May 2023 - Tucson
DESCRIPTION:RSVP in person\nRSVP Zoom\n\nWe are excited to announce that our next chapter meeting is heading down to Tucson\, Arizona to engage with our chapter members and community in the area. Stop in to say “hi” and learn about all of the various committees and initiatives we have as well as future projects and events that you can get involved in! This will be our FIRST time taking our chapter meeting to Tucson so we need your help to represent the family we’ve built over the last 5 years. BWS has graciously offered their newly opened office as the meeting location. So please\, save the date\, hop in the caravan\, and join us. \nThis is your chance to connect – will you take it? \nPlease RSVP so we know you’re coming and invite your friends! Carpool with us from Phoenix or wherever you are\, the meeting is open to all – we will be sharing what each of the committees do and getting to know the benefits of joining NOMAarizona. \nParking is available in the large lot across Court Ave for $5. There is also free parking after 5pm along Court Ave and Council St. \n❤ Non-members and non-architects welcome! \n#ourstrengthisourdiversity
URL:https://nomaarizona.org/event/chapter-meeting-may-2023-tucson/
LOCATION:BWS Architects\, 261 N Court Ave\,\, Tucson\, AZ\, 85701\, United States
CATEGORIES:Chapter Meeting,Networking
ATTACH;FMTTYPE=image/jpeg:https://nomaarizona.org/wp-content/uploads/2023/04/Chapter-Meeting-05-2023-scaled.jpg
END:VEVENT
BEGIN:VEVENT
DTSTART;TZID=America/Phoenix:20230520T100000
DTEND;TZID=America/Phoenix:20230520T113000
DTSTAMP:20260423T111031
CREATED:20230425T213950Z
LAST-MODIFIED:20230426T182840Z
UID:1376-1684576800-1684582200@nomaarizona.org
SUMMARY:Coffee Talk #10 - 3 Years Since George Floyd
DESCRIPTION:This Month’s Topic: 3 Years post-George Floyd— What has changed? What hasn’t? How are we doing?\n\nFree event – no membership needed\nRSVP\n\n—————– \nPiexoto is located at the Epicenter at Agritoptia in Gilbert. On-site parking is available. \n—————– \nEvery other month join us for Coffee Talks – order a warm/iced beverage of your choice from rotating café locations around the valley\, get comfortable\, and bring your open mind to this productive discussion where NOMAarizona facilitators will ask the group questions and hold space to share\, listen\, and learn from each other in a casual setting. \nThis is intended to be a forum for discussion of ideas and for learning about differing viewpoints. In discussions around diversity and equity it is important to understand that everyone sees and experiences the world differently – what seems “right” in your experience may not be so in someone else’s. Everyone is asked to consider different perspectives\, for the purpose of sensitivity\, learning\, and growth. Members of NOMAarizona will typically be the facilitators for our discussions. We are not experts. We are simply here to help facilitate the process. We are here\, like everyone else\, to learn. \n—————– \nIf you have a topic you’d like to chat about or a location to suggest – submit to jena.m.esquivel@gmail.com
URL:https://nomaarizona.org/event/coffee-talk-10-3-years-since-george-flloyd/
LOCATION:Piexoto – Agritopia\, 3150 E Ray Rd suite 100\,\, Gilbert\, AZ\, 85296\, United States
CATEGORIES:Coffee Talk,Networking
ATTACH;FMTTYPE=image/jpeg:https://nomaarizona.org/wp-content/uploads/2023/04/Coffee-Talk-2023-05-27-scaled.jpg
END:VEVENT
BEGIN:VEVENT
DTSTART;TZID=America/Phoenix:20230523T173000
DTEND;TZID=America/Phoenix:20230523T193000
DTSTAMP:20260423T111031
CREATED:20230502T231901Z
LAST-MODIFIED:20230509T174348Z
UID:1434-1684863000-1684870200@nomaarizona.org
SUMMARY:Creating A Supportive Gender-Inclusive Work Environment
DESCRIPTION:FREE event open to non-members (does require advance registration)\nRSVP here\n\nOn January 14\, 2023\, women\, non-binary people\, and people of the LGBTQ+ community gathered at a NOMAarizona and AIA PHX Metro DEI hosted Coffee Talk at the McKinley Club to discuss the struggles\, issues\, values\, successes\, and impacts these communities face within the Architecture\, Engineering\, and Construction industry. \nThis conversation collected information that is transforming into an educational workshop and conversation series to talk about welcoming gender inclusion and support in the workplace. We appreciate your patience with us as we develop this highly sought-after programming. The people behind planning these sessions are taking special care to consider the many insights from a very diverse group. We will do our best to address the most critical elements from your input with the goal to expand these conversations beyond the rooms they occur in. \nJoin us on Tuesday\, May 23 at the AIA Arizona office for a reception and a panel discussion. \n\n5:30pm – Reception\n6:00pm – Conversation\n\nThe conversation will be moderated by Alisa Santiago\, NOMA\, Architectural Designer at Architectural Resource Team\, with panelists: \n\nAnthony Leger\, City of Phoenix Equal Opportunity Department and LGBTQ Employee Alliance\nAngela Sullivan\, Assoc. AIA\, NOMA\, Project Manager at RSP\nKai DeValeria\, NOMA\, Architectural designer at Marlene Imirzian & Associates Architects.\n\n 
URL:https://nomaarizona.org/event/creating-a-supportive-gender-inclusive-work-environment/
LOCATION:AIA Arizona Office\, 30 North 3rd Avenue #200\, AZ\, 85003\, United States
CATEGORIES:DEI Series
ATTACH;FMTTYPE=image/jpeg:https://nomaarizona.org/wp-content/uploads/2023/05/May23rd_DEI_AIA_NOMA_white-1.jpg
END:VEVENT
END:VCALENDAR