BEGIN:VCALENDAR
VERSION:2.0
PRODID:-//NOMA AZ - ECPv6.15.20//NONSGML v1.0//EN
CALSCALE:GREGORIAN
METHOD:PUBLISH
X-ORIGINAL-URL:https://nomaarizona.org
X-WR-CALDESC:Events for NOMA AZ
REFRESH-INTERVAL;VALUE=DURATION:PT1H
X-Robots-Tag:noindex
X-PUBLISHED-TTL:PT1H
BEGIN:VTIMEZONE
TZID:America/Phoenix
BEGIN:STANDARD
TZOFFSETFROM:-0700
TZOFFSETTO:-0700
TZNAME:MST
DTSTART:20250101T000000
END:STANDARD
END:VTIMEZONE
BEGIN:VEVENT
DTSTART;TZID=America/Phoenix:20260428T173000
DTEND;TZID=America/Phoenix:20260428T190000
DTSTAMP:20260421T081958
CREATED:20260420T062317Z
LAST-MODIFIED:20260420T194923Z
UID:3740-1777397400-1777402800@nomaarizona.org
SUMMARY:NOMA AZ Professional Development - Personal Rebranding Series
DESCRIPTION:Join us for our first 2026 NOMA AZ Professional Development: Personal Rebranding Series. “The Invisible Expert” The internal logic of how firms actually decide whom to promote. \nThe Panel: \nMichell Romero\, IIDA\, NCIDQ | Sr. Principal\, SmithGroup\nRachel Rasmussen\, AIA\, NCARB\, NOMA | Partner\, Architekton\nSidney M. Smith\, AIA\, NCARB\, NOMA | Office Director/Partner\, HKS \nTickets: There is no charge for NOMA Members. $25 for non-members. Space is limited for this session. Secure your ticket now. RSVP here \nThank you to our sponsors: USG\, Milliken\, and Inpro. Refreshments will be provided. \nSee the map for parking. \nSmithGroup-Map-2024
URL:https://nomaarizona.org/event/noma-az-professional-development-personal-rebranding-series/
LOCATION:SmithGroup Phoenix – 455 N 3rd St #250\, Phoenix\, AZ 85004\, 455 N 3rd St #250\, Phoenix\, AZ\, 85004\, United States
CATEGORIES:Professional Development
ATTACH;FMTTYPE=image/png:https://nomaarizona.org/wp-content/uploads/2026/04/unnamed-1.png
END:VEVENT
BEGIN:VEVENT
DTSTART;TZID=America/Phoenix:20260512T180000
DTEND;TZID=America/Phoenix:20260512T191500
DTSTAMP:20260421T081958
CREATED:20260201T221153Z
LAST-MODIFIED:20260408T030148Z
UID:3595-1778608800-1778613300@nomaarizona.org
SUMMARY:May Chapter Meeting
DESCRIPTION:Save the date! Check back here for more details as we get closer to the event!
URL:https://nomaarizona.org/event/may-chapter-meeting-2/
LOCATION:AZ
CATEGORIES:Chapter Meeting
ATTACH;FMTTYPE=image/png:https://nomaarizona.org/wp-content/uploads/2022/05/nomaaz-logo-mdm_edited-copy.png
END:VEVENT
BEGIN:VEVENT
DTSTART;TZID=America/Phoenix:20260521T173000
DTEND;TZID=America/Phoenix:20260521T190000
DTSTAMP:20260421T081958
CREATED:20260420T064447Z
LAST-MODIFIED:20260420T064813Z
UID:3750-1779384600-1779390000@nomaarizona.org
SUMMARY:NOMA  AZ Professional Development Series
DESCRIPTION:Save the Date! More details to come! \nPresentation: The Architecture of Personal Branding: Crafting your value\, aligning with firm vision\, and scaling your net worth.
URL:https://nomaarizona.org/event/noma-az-professional-development-series/
LOCATION:AZ
CATEGORIES:Professional Development
ATTACH;FMTTYPE=image/png:https://nomaarizona.org/wp-content/uploads/2022/05/nomaaz-logo-mdm_edited-copy.png
END:VEVENT
BEGIN:VEVENT
DTSTART;TZID=America/Phoenix:20260609T180000
DTEND;TZID=America/Phoenix:20260609T191500
DTSTAMP:20260421T081958
CREATED:20260201T221708Z
LAST-MODIFIED:20260408T030206Z
UID:3597-1781028000-1781032500@nomaarizona.org
SUMMARY:June Chapter Meeting
DESCRIPTION:Save the date! Check back here for more details as we get closer to the event!
URL:https://nomaarizona.org/event/june-chapter-meeting-2/
LOCATION:AZ
CATEGORIES:Chapter Meeting
ATTACH;FMTTYPE=image/png:https://nomaarizona.org/wp-content/uploads/2022/05/nomaaz-logo-mdm_edited-copy.png
END:VEVENT
BEGIN:VEVENT
DTSTART;TZID=America/Phoenix:20260825T173000
DTEND;TZID=America/Phoenix:20260825T190000
DTSTAMP:20260421T081958
CREATED:20260420T065154Z
LAST-MODIFIED:20260420T065154Z
UID:3753-1787679000-1787684400@nomaarizona.org
SUMMARY:NOMA  AZ Professional Development Series
DESCRIPTION:Save the date! More details to come! \nForum: Negotiating Your Seat at the TableHow to turn niche expertise into a new role and a “no” into a roadmap.
URL:https://nomaarizona.org/event/noma-az-professional-development-series-2/
LOCATION:AZ
CATEGORIES:Professional Development
ATTACH;FMTTYPE=image/png:https://nomaarizona.org/wp-content/uploads/2022/05/nomaaz-logo-mdm_edited-copy.png
END:VEVENT
BEGIN:VEVENT
DTSTART;TZID=America/Phoenix:20260917T173000
DTEND;TZID=America/Phoenix:20260917T190000
DTSTAMP:20260421T081958
CREATED:20260420T065044Z
LAST-MODIFIED:20260420T065233Z
UID:3755-1789666200-1789671600@nomaarizona.org
SUMMARY:NOMA  AZ Professional Development Series
DESCRIPTION:Save the date! More details to come! \nForum: AEC Industry Pivot Strategies: Transferable skills and the courage to leap into non-traditional roles.
URL:https://nomaarizona.org/event/3755/
LOCATION:AZ
CATEGORIES:Professional Development
ATTACH;FMTTYPE=image/png:https://nomaarizona.org/wp-content/uploads/2022/05/nomaaz-logo-mdm_edited-copy.png
END:VEVENT
BEGIN:VEVENT
DTSTART;TZID=America/Phoenix:20261014T080000
DTEND;TZID=America/Phoenix:20261018T170000
DTSTAMP:20260421T081958
CREATED:20260202T051819Z
LAST-MODIFIED:20260408T030212Z
UID:3601-1791964800-1792342800@nomaarizona.org
SUMMARY:NOMA National Conference 2026 - The Leading Edge
DESCRIPTION:This year the national conference is heading to Miami\, Florida. Join us as we gather with our national NOMA family for networking\, professional development and social engagement! Click here for conference information and registration. \n 
URL:https://nomaarizona.org/event/noma-national-conference-2026-the-leading-edge/
LOCATION:AZ
CATEGORIES:National Event,Networking,Professional Development
ATTACH;FMTTYPE=image/png:https://nomaarizona.org/wp-content/uploads/2026/02/NOMA2022-blacktrans1200x.png
END:VEVENT
END:VCALENDAR