BEGIN:VCALENDAR
VERSION:2.0
PRODID:-//NOMA AZ - ECPv6.15.20//NONSGML v1.0//EN
CALSCALE:GREGORIAN
METHOD:PUBLISH
X-ORIGINAL-URL:https://nomaarizona.org
X-WR-CALDESC:Events for NOMA AZ
REFRESH-INTERVAL;VALUE=DURATION:PT1H
X-Robots-Tag:noindex
X-PUBLISHED-TTL:PT1H
BEGIN:VTIMEZONE
TZID:America/Phoenix
BEGIN:STANDARD
TZOFFSETFROM:-0700
TZOFFSETTO:-0700
TZNAME:MST
DTSTART:20250101T000000
END:STANDARD
END:VTIMEZONE
BEGIN:VEVENT
DTSTART;TZID=America/Phoenix:20260129T100000
DTEND;TZID=America/Phoenix:20260129T120000
DTSTAMP:20260421T171411
CREATED:20260119T043946Z
LAST-MODIFIED:20260119T043946Z
UID:3559-1769680800-1769688000@nomaarizona.org
SUMMARY:Sprout's Headquarters - Building Construction Tour
DESCRIPTION:Join us for a construction tour of the new Sprouts Headquarters campus and office building project by RSP Architects. NOMA Member Luis Cruz-Martinez will lead the tour along with Trammell Crow and Wespac Construction  \nThis is a joint event for with NOMA Arizona and CSI Phoenix. The capacity is limited to 20 people\, so the tour will be open to NOMA Members\, CSI Members\, and Students only. Attendees will need to bring their own Personal Protective Equipment. There will be a limited amount of PPE set aside for students. Closed toe shoes only. \n\nEnter the South-West parking structure from the South\nWalk to Wespac’s office on the South of the parking structure to sign in.\nMeet at Wespac’s office at 10am\, Tour will start around 10:15 am\nWater will be provided\, but no food or outside drinks permitted\n\nRSVP here
URL:https://nomaarizona.org/event/sprouts-headquarters-building-construction-tour/
LOCATION:Sprouts Headquarters\, 20555 N 55 St.\, Phoenix\, AZ\, 85054\, United States
CATEGORIES:Tour
ATTACH;FMTTYPE=image/jpeg:https://nomaarizona.org/wp-content/uploads/2026/01/sproutstour-04-scaled.jpg
END:VEVENT
END:VCALENDAR