BEGIN:VCALENDAR
VERSION:2.0
PRODID:-//NOMA AZ - ECPv6.15.20//NONSGML v1.0//EN
CALSCALE:GREGORIAN
METHOD:PUBLISH
X-ORIGINAL-URL:https://nomaarizona.org
X-WR-CALDESC:Events for NOMA AZ
REFRESH-INTERVAL;VALUE=DURATION:PT1H
X-Robots-Tag:noindex
X-PUBLISHED-TTL:PT1H
BEGIN:VTIMEZONE
TZID:America/Phoenix
BEGIN:STANDARD
TZOFFSETFROM:-0700
TZOFFSETTO:-0700
TZNAME:MST
DTSTART:20230101T000000
END:STANDARD
END:VTIMEZONE
BEGIN:VEVENT
DTSTART;TZID=America/Phoenix:20240306T100000
DTEND;TZID=America/Phoenix:20240306T130000
DTSTAMP:20260422T030819
CREATED:20240227T032547Z
LAST-MODIFIED:20240301T011107Z
UID:2095-1709719200-1709730000@nomaarizona.org
SUMMARY:Dunn Edwards Manufacturing Facility Tour
DESCRIPTION:Join us for a tour of the Dunn-Edwards Corporation manufacturing facility and a Lunch & Learn presentation on March 6th from 10AM – 1PM. The presentation\, titled Paint Ingredients and Performance Characteristics\, will follow the tour. Lunch will be provided. The factory entrance is located at the NE corner of the building. If you enter the store on the SE corner of the building\, just ask them to point you in the direction of the factory entrance. If you have any questions\, please contact Jeff Scoby at jeff.scoby@dunnedwards.com. We hope to see you there!\n\nCredit Designation:\n\n\n1 LU/HSW AIA Course Code: DE1014\n1 LU\, IDCEC Course Code: CEU-101198-R2\n\nRSVP here
URL:https://nomaarizona.org/event/dunn-edwards-manufacturing-facility-tour/
LOCATION:520 S. 67th Ave Phoenix\, AZ 85043\, 520 S. 67th Ave.\, Phoenix\, AZ\, 85043\, United States
CATEGORIES:Tour
ATTACH;FMTTYPE=image/png:https://nomaarizona.org/wp-content/uploads/2024/02/Dunn-Edwards-Tour-2.png
END:VEVENT
END:VCALENDAR