BEGIN:VCALENDAR
VERSION:2.0
PRODID:-//NOMA AZ - ECPv6.15.20//NONSGML v1.0//EN
CALSCALE:GREGORIAN
METHOD:PUBLISH
X-WR-CALNAME:NOMA AZ
X-ORIGINAL-URL:https://nomaarizona.org
X-WR-CALDESC:Events for NOMA AZ
REFRESH-INTERVAL;VALUE=DURATION:PT1H
X-Robots-Tag:noindex
X-PUBLISHED-TTL:PT1H
BEGIN:VTIMEZONE
TZID:America/Phoenix
BEGIN:STANDARD
TZOFFSETFROM:-0700
TZOFFSETTO:-0700
TZNAME:MST
DTSTART:20240101T000000
END:STANDARD
END:VTIMEZONE
BEGIN:VEVENT
DTSTART;TZID=America/Phoenix:20250610T173000
DTEND;TZID=America/Phoenix:20250610T190000
DTSTAMP:20260420T140131
CREATED:20250102T033706Z
LAST-MODIFIED:20250530T153544Z
UID:2840-1749576600-1749582000@nomaarizona.org
SUMMARY:June Mentor Mixer
DESCRIPTION:Are you looking for a mentor or interested in mentoring? Join us for our first Mentor Mixer\, where you’ll have an opportunity to mingle with other members and potentially meet your next mentor or mentee. NOMAS students are encouraged to attend. Thank you to Goodmans for sponsoring this event.  \nFood and beverages will be provided. \nParking is free and onsite. \nPlease be sure to RSVP here!
URL:https://nomaarizona.org/event/june-chapter-meeting/
LOCATION:Goodmans\, 1400 E. Indian School Rd.\, Phoenix\, AZ\, 85014\, United States
CATEGORIES:Networking
ATTACH;FMTTYPE=image/jpeg:https://nomaarizona.org/wp-content/uploads/2025/01/Mentor-Mixer-NOMA.jpg
END:VEVENT
END:VCALENDAR