BEGIN:VCALENDAR
VERSION:2.0
PRODID:-//NOMA AZ - ECPv6.15.20//NONSGML v1.0//EN
CALSCALE:GREGORIAN
METHOD:PUBLISH
X-ORIGINAL-URL:https://nomaarizona.org
X-WR-CALDESC:Events for NOMA AZ
REFRESH-INTERVAL;VALUE=DURATION:PT1H
X-Robots-Tag:noindex
X-PUBLISHED-TTL:PT1H
BEGIN:VTIMEZONE
TZID:America/Phoenix
BEGIN:STANDARD
TZOFFSETFROM:-0700
TZOFFSETTO:-0700
TZNAME:MST
DTSTART:20240101T000000
END:STANDARD
END:VTIMEZONE
BEGIN:VEVENT
DTSTART;TZID=America/Phoenix:20250409T183000
DTEND;TZID=America/Phoenix:20250409T203000
DTSTAMP:20260422T002250
CREATED:20250305T040748Z
LAST-MODIFIED:20250305T040748Z
UID:3036-1744223400-1744230600@nomaarizona.org
SUMMARY:No Festival Required - Hollywood's Architect - The Paul R. Williams Story
DESCRIPTION:Join us for an exclusive screening by No Festival Required of a powerful documentary by Royal K. Rodgers\, Kathy McCampbell Vance\, and Shirlyn Cesar\, celebrating the life and legacy of Paul R. Williams—the trailblazing African American architect who defied racial barriers to shape the skylines of Los Angeles and beyond. \nDiscover how Williams navigated the challenges of segregation to design some of the most iconic homes\, hotels\, and civic landmarks of the 20th century\, leaving an indelible mark on modern architecture. His story is one of determination\, ingenuity\, and cultural impact—a must-see for anyone passionate about design\, history\, and resilience. \nFollowing the screening\, engage in an insightful post-film Q&A with the directors and producers\, moderated by NOMA AZ President Omar Bailey. This is an opportunity to dive deeper into Williams’s journey\, his influence on contemporary practice\, and what his legacy means for architects today. \nDon’t miss this inspiring evening—come be part of the conversation! Food and drinks are available for purchase before and after the screening. \nPost screening Q&A with the directors/producers with NOMA AZ president Omar Bailey as the moderator.  \nDoors open at 6:30PM; Show starts at 7:00PM \n\nThis is an in-person-only event.\nParking is available onsite south of the venue.\nWe can meet in the lobby before going to our seats.\n\nPurchase your ticket here.
URL:https://nomaarizona.org/event/no-festival-required-hollywoods-architect-the-paul-r-williams-story/
LOCATION:Walter Studios\, 747 W Roosevelt St\, Phoenix\, AZ\, 85007\, United States
CATEGORIES:Networking
ATTACH;FMTTYPE=image/jpeg:https://nomaarizona.org/wp-content/uploads/2025/03/posterAAFS2025-crop.jpg
END:VEVENT
BEGIN:VEVENT
DTSTART;TZID=America/Phoenix:20250419T100000
DTEND;TZID=America/Phoenix:20250419T113000
DTSTAMP:20260422T002250
CREATED:20250116T024700Z
LAST-MODIFIED:20250409T030023Z
UID:2910-1745056800-1745062200@nomaarizona.org
SUMMARY:April Coffee Talk - "Being Curious with Confidence"
DESCRIPTION:Hello everyone! On April 19th\, we will be talking about “Being Curious with Confidence” and how that may look different in our adulthood compared to our childhood. Curiosity is a powerful force that drives exploration\, learning\, and growth. Children embody this naturally—they ask endless questions\, dive into new experiences without hesitation\, and approach the world with fearless wonder without much thought of being wrong or looking foolish. But does this change as we grow older? If so\, when and why does this shift occur? We invite you to join us on April 19th at Moka & Co for this insightful topic to hear other people’s thoughts\, opinions\, and experiences!\n \nAbout Moka & Co: Moka & Co is a Yemeni coffee shop that recently opened a new location in Mesa\, AZ. Their mission is to: “Deliver an amazing\, unique taste of culture\, served with a high standard of hospitality.”\n \nWhat are Coffee Talks? Coffee Talks are a NOMAarizona monthly event. Order a warm or iced beverage of your choice from rotating cafe locations around the valley. In Coffee Talks\, we come together to share\, listen\, and learn in a casual setting. This is a place where light and heavy topics can be discussed welcomingly while learning from different perspectives and joining in community. We encourage all to participate in the conversation as we explore many topics and coffee shops with NOMAarizona.\n\nRSVP here\n\n\nIf you have a topic/input/comments you’d like to chat about for coffee talks please click on this link: Your Coffee Talk Input
URL:https://nomaarizona.org/event/april-coffee-talk/
LOCATION:Moka & Co\, 1766 S Greenfield Rd Ste 102\, Mesa\, AZ\, 85206\, United States
CATEGORIES:Coffee Talk,Networking
ATTACH;FMTTYPE=image/png:https://nomaarizona.org/wp-content/uploads/2025/01/25_April-C.T.png
END:VEVENT
END:VCALENDAR