BEGIN:VCALENDAR
VERSION:2.0
PRODID:-//NOMA AZ - ECPv6.15.20//NONSGML v1.0//EN
CALSCALE:GREGORIAN
METHOD:PUBLISH
X-WR-CALNAME:NOMA AZ
X-ORIGINAL-URL:https://nomaarizona.org
X-WR-CALDESC:Events for NOMA AZ
REFRESH-INTERVAL;VALUE=DURATION:PT1H
X-Robots-Tag:noindex
X-PUBLISHED-TTL:PT1H
BEGIN:VTIMEZONE
TZID:America/Phoenix
BEGIN:STANDARD
TZOFFSETFROM:-0700
TZOFFSETTO:-0700
TZNAME:MST
DTSTART:20240101T000000
END:STANDARD
END:VTIMEZONE
BEGIN:VEVENT
DTSTART;TZID=America/Phoenix:20250212T090000
DTEND;TZID=America/Phoenix:20250212T130000
DTSTAMP:20260424T080022
CREATED:20250116T031428Z
LAST-MODIFIED:20250116T033925Z
UID:2922-1739350800-1739365200@nomaarizona.org
SUMMARY:Day at the Capitol 2025 - AIA\, NOMA\, USGBC
DESCRIPTION:AIA Arizona is planning an Architect Advocacy Day at the Arizona State Capitol on Wednesday\, February 12\, 2025\, once again in collaboration with USGBC and NOMA. Architect and Associate members are welcome to attend. This half-day event will be from morning through lunch with legislators in the Historic Senate Chamber. If you are interested in attending and representing your profession\, please RSVP by January 31\, 2025. \nParticipating is simply a matter of being present to represent your profession. You do not need to be an expert at government affairs or the legislative process. Further information will be provided for attendees. Know that we may limit the number of attendees based on capacity for the lunch and logistics in planning. \nClick here for additional information.
URL:https://nomaarizona.org/event/day-at-the-capitol-2025-aia-noma-usgbc/
LOCATION:Arizona State Capitol\, 1700 W Washington St.\, Phoenix\, AZ\, 85007\, United States
CATEGORIES:Community Service,Networking,Professional Development
ATTACH;FMTTYPE=image/jpeg:https://nomaarizona.org/wp-content/uploads/2025/01/20240327_101035-scaled.jpg
END:VEVENT
BEGIN:VEVENT
DTSTART;TZID=America/Phoenix:20250222T080000
DTEND;TZID=America/Phoenix:20250222T130000
DTSTAMP:20260424T080022
CREATED:20250109T045834Z
LAST-MODIFIED:20250121T053642Z
UID:2884-1740211200-1740229200@nomaarizona.org
SUMMARY:NOMAaz Career Fair 2025
DESCRIPTION:Join us for NOMA Arizona’s highly anticipated 5th Annual Career Fair. This event is your gateway to a world of possibilities! Connect with leading firms\, explore internship and employment opportunities\, and elevate your professional journey! \nThis hybrid event is open to students of Arizona State University\, the University of Arizona\, and The School of Architecture. \nBreakfast will be provided. This is a free event. \nFor additional questions and information on participating\, whether you are a student or a professional firm\, please contact Brooke Manriquez at bmanriquez@arcadiainc.com \nThank you to DLR Group for hosting! \nRSVP here. \nThe Zoom link to join virtual will be sent out one week prior to the event.
URL:https://nomaarizona.org/event/nomaaz-career-fair-2025/
LOCATION:DLR Architects\, 6225 N 24th St # 250\, Phoenix\, AZ\, 85016\, United States
CATEGORIES:Networking,Professional Development
ATTACH;FMTTYPE=image/png:https://nomaarizona.org/wp-content/uploads/2025/01/NOMA-Career-Fair-2025.png
END:VEVENT
END:VCALENDAR