BEGIN:VCALENDAR
VERSION:2.0
PRODID:-//NOMA AZ - ECPv6.15.20//NONSGML v1.0//EN
CALSCALE:GREGORIAN
METHOD:PUBLISH
X-WR-CALNAME:NOMA AZ
X-ORIGINAL-URL:https://nomaarizona.org
X-WR-CALDESC:Events for NOMA AZ
REFRESH-INTERVAL;VALUE=DURATION:PT1H
X-Robots-Tag:noindex
X-PUBLISHED-TTL:PT1H
BEGIN:VTIMEZONE
TZID:America/Phoenix
BEGIN:STANDARD
TZOFFSETFROM:-0700
TZOFFSETTO:-0700
TZNAME:MST
DTSTART:20250101T000000
END:STANDARD
END:VTIMEZONE
BEGIN:VEVENT
DTSTART;TZID=America/Phoenix:20260113T180000
DTEND;TZID=America/Phoenix:20260113T190000
DTSTAMP:20260423T062219
CREATED:20260107T023103Z
LAST-MODIFIED:20260112T020010Z
UID:3539-1768327200-1768330800@nomaarizona.org
SUMMARY:January Chapter Meeting - Happy New Year!
DESCRIPTION:Join us as we start the new year by sharing upcoming chapter announcements\, but we also want to hear from you! We also have exciting news as we will be announcing the winner of the Amineh Warrayat Scholarship. \nThank you to LJC for hosting our chapter meeting! \n\nFrom the parking garage you will take the elevator to the first floor and\, following the signs\, walk left towards 44th street.\nMake sure to bring in your parking ticket so we can validate.\nPlease do not park in any space with Banner Health signs or marked RESERVED.\n\n \nThis is a hybrid event. \nVirtual login \nRSVP in person
URL:https://nomaarizona.org/event/january-chapter-meeting-happy-new-year/
LOCATION:LJC\, 4300 E. Camelback Rd. Suite 300\, Phoenix\, AZ\, 85018\, United States
CATEGORIES:Chapter Meeting
ATTACH;FMTTYPE=image/jpeg:https://nomaarizona.org/wp-content/uploads/2026/01/2026-chapter-meeting-03-min-scaled.jpg
END:VEVENT
END:VCALENDAR