BEGIN:VCALENDAR
VERSION:2.0
PRODID:-//NOMA AZ - ECPv6.15.20//NONSGML v1.0//EN
CALSCALE:GREGORIAN
METHOD:PUBLISH
X-WR-CALNAME:NOMA AZ
X-ORIGINAL-URL:https://nomaarizona.org
X-WR-CALDESC:Events for NOMA AZ
REFRESH-INTERVAL;VALUE=DURATION:PT1H
X-Robots-Tag:noindex
X-PUBLISHED-TTL:PT1H
BEGIN:VTIMEZONE
TZID:America/Phoenix
BEGIN:STANDARD
TZOFFSETFROM:-0700
TZOFFSETTO:-0700
TZNAME:MST
DTSTART:20250101T000000
END:STANDARD
END:VTIMEZONE
BEGIN:VEVENT
DTSTART;TZID=America/Phoenix:20260421T183000
DTEND;TZID=America/Phoenix:20260421T210000
DTSTAMP:20260421T113731
CREATED:20260305T024430Z
LAST-MODIFIED:20260308T205642Z
UID:3688-1776796200-1776805200@nomaarizona.org
SUMMARY:No Festival Required - Arizona Architectural Film 3-Part Showcase
DESCRIPTION:Join us for the last of the three-part series. This is an evening film screening in collaboration with No Festival Required. \nThe Film: Going Attractions: The Definitive Story of the Movie Palace \nGet your tickets here \nDoors open at 6:30pm\, Screening begins at 7:00pm \n 
URL:https://nomaarizona.org/event/no-festival-required-arizona-architectural-film-3-part-showcase-3/
LOCATION:The Orpheum Theatre\, 203 W. Adams St.\, Phoenix\, AZ\, 85003\, United States
CATEGORIES:Movie Night
ATTACH;FMTTYPE=image/jpeg:https://nomaarizona.org/wp-content/uploads/2026/03/POSTER2026-AAFS.jpg
END:VEVENT
END:VCALENDAR