BEGIN:VCALENDAR
VERSION:2.0
PRODID:-//NOMA AZ - ECPv6.15.20//NONSGML v1.0//EN
CALSCALE:GREGORIAN
METHOD:PUBLISH
X-WR-CALNAME:NOMA AZ
X-ORIGINAL-URL:https://nomaarizona.org
X-WR-CALDESC:Events for NOMA AZ
REFRESH-INTERVAL;VALUE=DURATION:PT1H
X-Robots-Tag:noindex
X-PUBLISHED-TTL:PT1H
BEGIN:VTIMEZONE
TZID:America/Phoenix
BEGIN:STANDARD
TZOFFSETFROM:-0700
TZOFFSETTO:-0700
TZNAME:MST
DTSTART:20230101T000000
END:STANDARD
END:VTIMEZONE
BEGIN:VEVENT
DTSTART;TZID=America/Phoenix:20240408T080000
DTEND;TZID=America/Phoenix:20240423T170000
DTSTAMP:20260424T202621
CREATED:20240417T034513Z
LAST-MODIFIED:20240417T034513Z
UID:2189-1712563200-1713891600@nomaarizona.org
SUMMARY:SAY IT LOUD - In Tempe
DESCRIPTION:Join us as we showcase the remarkable works of talented professionals across the valley\, each telling their own unique story and contributions to the built environment! \nThis is an open to all exhibit at the Red Square in Design North at ASU available to view until the March 23rd before it moves on to its next destination!
URL:https://nomaarizona.org/event/say-it-loud-in-tempe/
LOCATION:Design School\, 810 S Forest Ave\, TEMPE\, AZ\, 85281\, United States
CATEGORIES:Say It Loud
ATTACH;FMTTYPE=image/jpeg:https://nomaarizona.org/wp-content/uploads/2024/04/Event-template11.jpg
END:VEVENT
BEGIN:VEVENT
DTSTART;TZID=America/Phoenix:20240409T180000
DTEND;TZID=America/Phoenix:20240409T191500
DTSTAMP:20260424T202621
CREATED:20240219T003122Z
LAST-MODIFIED:20240405T185231Z
UID:2081-1712685600-1712690100@nomaarizona.org
SUMMARY:April Chapter Meeting - "Networking Skills"
DESCRIPTION:About Our Presentation and Speaker: \n“Architect Your Future: 5 Proven Networking Steps to Catapult Your Career and Business” with Tara Brown \nEmbark on a transformative journey designed for architects at every career stage. This session equips you with five dynamic tools\, whether you’re an emerging professional or an industry veteran. Dive deep into the essentials of networking to elevate your career\, with strategies tailored for overcoming introversion\, securing career growth\, and mastering advanced networking subtleties. Join us to construct a network that elevates your career to new heights. \nDiscover Tara Brown’s story: an architect whose networking and expertise post-hiatus led to over $12 million in fees and over $250 million in managed projects. Tara’s approach highlights the importance of connections alongside technical skills. Learn how a strategic blend of personal interests and professional networking can enhance your architectural career. \nParking will be validated if you park at the structure shown below.  \nWe hope to see you there!\n#ourstrengthisourdiversity \nRSVP in Person \nRSVP Virtual
URL:https://nomaarizona.org/event/april-chapter-meeting-networking-skills/
LOCATION:HDR Phoenix\, 20 E Thomas Rd #2500\, Phoenix\, AZ\, 85012\, United States
CATEGORIES:Chapter Meeting,Networking
ATTACH;FMTTYPE=image/jpeg:https://nomaarizona.org/wp-content/uploads/2024/02/April-Chapter-meeting-scaled.jpg
END:VEVENT
END:VCALENDAR