BEGIN:VCALENDAR
VERSION:2.0
PRODID:-//NOMA AZ - ECPv6.15.20//NONSGML v1.0//EN
CALSCALE:GREGORIAN
METHOD:PUBLISH
X-WR-CALNAME:NOMA AZ
X-ORIGINAL-URL:https://nomaarizona.org
X-WR-CALDESC:Events for NOMA AZ
REFRESH-INTERVAL;VALUE=DURATION:PT1H
X-Robots-Tag:noindex
X-PUBLISHED-TTL:PT1H
BEGIN:VTIMEZONE
TZID:America/Phoenix
BEGIN:STANDARD
TZOFFSETFROM:-0700
TZOFFSETTO:-0700
TZNAME:MST
DTSTART:20230101T000000
END:STANDARD
END:VTIMEZONE
BEGIN:VEVENT
DTSTART;TZID=America/Phoenix:20240213T180000
DTEND;TZID=America/Phoenix:20240213T191500
DTSTAMP:20260424T151932
CREATED:20240205T183623Z
LAST-MODIFIED:20240205T184008Z
UID:1998-1707847200-1707851700@nomaarizona.org
SUMMARY:Chapter Meeting - February 2024
DESCRIPTION:Mark your calendars for NEXT TUESDAY\, February 13th! Join us at Goodmans for our next chapter meeting\, as we share our upcoming events\, and the latest committee updates alongside an insightful presentation on Unconscious Bias from our guest speaker\, Adam Goodman. \nFeel free to bring a friend along\, as this free event is open to everyone\, including non-members. Refreshments will be provided! \nAttend In person or Virtually – Please RSVP by Friday\, 9th February \nNOTE: Parking available on site and building entrance will be at back of building (current front main entrance is under construction)
URL:https://nomaarizona.org/event/february-chapter-meeting/
LOCATION:Goodmans Interior Structures\, 1400 E Indian School Rd\, Phoenix\, AZ\, 85014\, United States
CATEGORIES:Chapter Meeting
ATTACH;FMTTYPE=image/jpeg:https://nomaarizona.org/wp-content/uploads/2024/02/February-Chapter-meeting-03-scaled.jpg
END:VEVENT
END:VCALENDAR