BEGIN:VCALENDAR
VERSION:2.0
PRODID:-//NOMA AZ - ECPv6.15.20//NONSGML v1.0//EN
CALSCALE:GREGORIAN
METHOD:PUBLISH
X-ORIGINAL-URL:https://nomaarizona.org
X-WR-CALDESC:Events for NOMA AZ
REFRESH-INTERVAL;VALUE=DURATION:PT1H
X-Robots-Tag:noindex
X-PUBLISHED-TTL:PT1H
BEGIN:VTIMEZONE
TZID:America/Phoenix
BEGIN:STANDARD
TZOFFSETFROM:-0700
TZOFFSETTO:-0700
TZNAME:MST
DTSTART:20230101T000000
END:STANDARD
END:VTIMEZONE
BEGIN:VEVENT
DTSTART;TZID=America/Phoenix:20240109T180000
DTEND;TZID=America/Phoenix:20240109T191500
DTSTAMP:20260421T184655
CREATED:20240104T172129Z
LAST-MODIFIED:20240109T235341Z
UID:1890-1704823200-1704827700@nomaarizona.org
SUMMARY:Chapter Meeting - January 2024
DESCRIPTION:In Person/Virtual RSVP here \n\nFree Event\nNo membership needed\n\nMark your calendars for NEXT TUESDAY\, January 9th! Join us at Shepley Bulfinch for our first chapter meeting of the year\, as we share our upcoming events\, and the latest committee updates alongside a presentation from our guest speaker\, Damon Leverett. This is a great opportunity to learn about the prospects of AI in the design industry and get involved in our lively community\, so don’t miss out! \nGuest speaker: Damon Leverett \nSession Title: Artificial Intelligence Imagery in Architecture and Design \nDamon Leverett’s presentation will focus on the basics of machine learning\, leading artificial Intelligence modalities in design\, and prompt development. Architects will understand the workflow of design imagery using artificial Intelligence and how to get started with image-to-text tools. The ethical considerations surrounding artificial intelligence as a tool will be explored. Specifically\, the focus will be on how individuals can vary in their approach to leveraging artificial intelligence capabilities while considering potential obstacles and intent-to-outcome limitations. The session will be a lecture style with a 45-minute PowerPoint presentation and use of the Slido app for the 15–30-minute questions and answers segment. \nParking:
URL:https://nomaarizona.org/event/chapter-meeting-january-2024/
LOCATION:Shepley Bulfinch\, 3443 North Central Avenue\, Phoenix\, AZ\, 85012\, United States
CATEGORIES:Chapter Meeting
ATTACH;FMTTYPE=image/jpeg:https://nomaarizona.org/wp-content/uploads/2024/01/January-Chapter-Meeting-2024-1-scaled.jpg
END:VEVENT
END:VCALENDAR