BEGIN:VCALENDAR
VERSION:2.0
PRODID:-//NOMA AZ - ECPv6.15.20//NONSGML v1.0//EN
CALSCALE:GREGORIAN
METHOD:PUBLISH
X-WR-CALNAME:NOMA AZ
X-ORIGINAL-URL:https://nomaarizona.org
X-WR-CALDESC:Events for NOMA AZ
REFRESH-INTERVAL;VALUE=DURATION:PT1H
X-Robots-Tag:noindex
X-PUBLISHED-TTL:PT1H
BEGIN:VTIMEZONE
TZID:America/Phoenix
BEGIN:STANDARD
TZOFFSETFROM:-0700
TZOFFSETTO:-0700
TZNAME:MST
DTSTART:20220101T000000
END:STANDARD
END:VTIMEZONE
BEGIN:VEVENT
DTSTART;VALUE=DATE:20231030
DTEND;VALUE=DATE:20231031
DTSTAMP:20260420T083339
CREATED:20231004T191708Z
LAST-MODIFIED:20231004T195126Z
UID:1640-1698624000-1698710399@nomaarizona.org
SUMMARY:Amineh Warryat Scholarship Deadline
DESCRIPTION:Download details here.
URL:https://nomaarizona.org/event/amineh-warryat-scholarship-deadline/
CATEGORIES:Deadline
ATTACH;FMTTYPE=image/jpeg:https://nomaarizona.org/wp-content/uploads/2023/10/Amineh-scholarship-IG-scaled.jpg
END:VEVENT
END:VCALENDAR