BEGIN:VCALENDAR
VERSION:2.0
PRODID:-//NOMA AZ - ECPv6.15.20//NONSGML v1.0//EN
CALSCALE:GREGORIAN
METHOD:PUBLISH
X-ORIGINAL-URL:https://nomaarizona.org
X-WR-CALDESC:Events for NOMA AZ
REFRESH-INTERVAL;VALUE=DURATION:PT1H
X-Robots-Tag:noindex
X-PUBLISHED-TTL:PT1H
BEGIN:VTIMEZONE
TZID:America/Phoenix
BEGIN:STANDARD
TZOFFSETFROM:-0700
TZOFFSETTO:-0700
TZNAME:MST
DTSTART:20220101T000000
END:STANDARD
END:VTIMEZONE
BEGIN:VEVENT
DTSTART;TZID=America/Phoenix:20230523T173000
DTEND;TZID=America/Phoenix:20230523T193000
DTSTAMP:20260421T182629
CREATED:20230502T231901Z
LAST-MODIFIED:20230509T174348Z
UID:1434-1684863000-1684870200@nomaarizona.org
SUMMARY:Creating A Supportive Gender-Inclusive Work Environment
DESCRIPTION:FREE event open to non-members (does require advance registration)\nRSVP here\n\nOn January 14\, 2023\, women\, non-binary people\, and people of the LGBTQ+ community gathered at a NOMAarizona and AIA PHX Metro DEI hosted Coffee Talk at the McKinley Club to discuss the struggles\, issues\, values\, successes\, and impacts these communities face within the Architecture\, Engineering\, and Construction industry. \nThis conversation collected information that is transforming into an educational workshop and conversation series to talk about welcoming gender inclusion and support in the workplace. We appreciate your patience with us as we develop this highly sought-after programming. The people behind planning these sessions are taking special care to consider the many insights from a very diverse group. We will do our best to address the most critical elements from your input with the goal to expand these conversations beyond the rooms they occur in. \nJoin us on Tuesday\, May 23 at the AIA Arizona office for a reception and a panel discussion. \n\n5:30pm – Reception\n6:00pm – Conversation\n\nThe conversation will be moderated by Alisa Santiago\, NOMA\, Architectural Designer at Architectural Resource Team\, with panelists: \n\nAnthony Leger\, City of Phoenix Equal Opportunity Department and LGBTQ Employee Alliance\nAngela Sullivan\, Assoc. AIA\, NOMA\, Project Manager at RSP\nKai DeValeria\, NOMA\, Architectural designer at Marlene Imirzian & Associates Architects.\n\n 
URL:https://nomaarizona.org/event/creating-a-supportive-gender-inclusive-work-environment/
LOCATION:AIA Arizona Office\, 30 North 3rd Avenue #200\, AZ\, 85003\, United States
CATEGORIES:DEI Series
ATTACH;FMTTYPE=image/jpeg:https://nomaarizona.org/wp-content/uploads/2023/05/May23rd_DEI_AIA_NOMA_white-1.jpg
END:VEVENT
END:VCALENDAR