BEGIN:VCALENDAR
VERSION:2.0
PRODID:-//NOMA AZ - ECPv6.15.20//NONSGML v1.0//EN
CALSCALE:GREGORIAN
METHOD:PUBLISH
X-WR-CALNAME:NOMA AZ
X-ORIGINAL-URL:https://nomaarizona.org
X-WR-CALDESC:Events for NOMA AZ
REFRESH-INTERVAL;VALUE=DURATION:PT1H
X-Robots-Tag:noindex
X-PUBLISHED-TTL:PT1H
BEGIN:VTIMEZONE
TZID:America/Phoenix
BEGIN:STANDARD
TZOFFSETFROM:-0700
TZOFFSETTO:-0700
TZNAME:MST
DTSTART:20220101T000000
END:STANDARD
END:VTIMEZONE
BEGIN:VEVENT
DTSTART;TZID=America/Phoenix:20230422T100000
DTEND;TZID=America/Phoenix:20230422T113000
DTSTAMP:20260425T122112
CREATED:20230411T193827Z
LAST-MODIFIED:20230425T213342Z
UID:1363-1682157600-1682163000@nomaarizona.org
SUMMARY:Coffee Talk #9 - Code Switching
DESCRIPTION:This Month’s Topic: Code Switching – The impact of how we present ourselves in different situations.\nFree event — no membership needed\nRSVP so we know you’re coming – it helps us plan ahead 🙂 \n\nWhat is code-switching? — Code switching is the ways in which a member of an underrepresented group (consciously or unconsciously) adjusts their language\, syntax\, grammatical structure\, behavior\, and appearance to fit into the dominant culture.\n\nCode switching is more common than you think – so let’s talk about it! \n——————- \nChilte is located on Grave Avenue inside The Egyptian motor hotel. Free street parking available along both sides of Grand Avenue (note – no parking at The Egyptian – those spaces are reserved for guests). \n—————– \nEvery other month join us for Coffee Talks – order a warm/iced beverage of your choice from rotating café locations around the valley\, get comfortable\, and bring your open mind to this productive discussion where NOMAarizona facilitators will ask the group questions and hold space to share\, listen\, and learn from each other in a casual setting. \nThis is intended to be a forum for discussion of ideas and for learning about differing viewpoints. In discussions around diversity and equity it is important to understand that everyone sees and experiences the world differently – what seems “right” in your experience may not be so in someone else’s. Everyone is asked to consider different perspectives\, for the purpose of sensitivity\, learning\, and growth. Members of NOMAarizona will typically be the facilitators for our discussions. We are not experts. We are simply here to help facilitate the process. We are here\, like everyone else\, to learn. \nIf you have a topic you’d like to chat about or a location to suggest – submit to jena.m.esquivel@gmail.com
URL:https://nomaarizona.org/event/1363/
LOCATION:Chilte\, 765 Grand Ave\, Phoenix\, AZ\, 85007\, United States
CATEGORIES:Coffee Talk,Networking
ATTACH;FMTTYPE=image/jpeg:https://nomaarizona.org/wp-content/uploads/2023/04/Coffee-Talk-2023-04-22-scaled.jpg
END:VEVENT
END:VCALENDAR