BEGIN:VCALENDAR
VERSION:2.0
PRODID:-//NOMA AZ - ECPv6.15.20//NONSGML v1.0//EN
CALSCALE:GREGORIAN
METHOD:PUBLISH
X-ORIGINAL-URL:https://nomaarizona.org
X-WR-CALDESC:Events for NOMA AZ
REFRESH-INTERVAL;VALUE=DURATION:PT1H
X-Robots-Tag:noindex
X-PUBLISHED-TTL:PT1H
BEGIN:VTIMEZONE
TZID:America/Phoenix
BEGIN:STANDARD
TZOFFSETFROM:-0700
TZOFFSETTO:-0700
TZNAME:MST
DTSTART:20220101T000000
END:STANDARD
END:VTIMEZONE
BEGIN:VEVENT
DTSTART;TZID=America/Phoenix:20230304T090000
DTEND;TZID=America/Phoenix:20230304T123000
DTSTAMP:20260423T023957
CREATED:20230207T184506Z
LAST-MODIFIED:20230216T014502Z
UID:1250-1677920400-1677933000@nomaarizona.org
SUMMARY:3rd Annual Diversity Career Fair
DESCRIPTION:We are hosting our 3rd annual diversity career fair on Saturday\, March 4th virtually via Zoom. The objective is to give firms an opportunity to meet with potential candidates for internships or new graduate positions. \nWe are still on the hunt for participating firms so please reach out to Brooke Montelongo to confirm your spot by this Friday\, February 10th. bmontelongo@arcadiainc.com \nIf you are a student/recent graduate that would like to participate\, please reach out to Zahir Poonawala: zahir@zpa.design \nThank you to all of the firms that have signed up – together we’re creating an invaluable experience for the emerging architects in our community to succeed. We look forward to working with you as we continue to advance diversity in the profession. \nArchitekton\nArchitectural\nResource Team\nArchsol\nArrington Watkins\nAyers Saint Gross\nBWS\nCorgan\nDLR Group\nDWL Architects\nGensler\nHKS\nJones Studio\nKrause\nLine & Space\nM Studio Architecture\nMarlene Imerzian\nMultistudio\nOrcutt Winslow\nPerkins & Will\nPHX Architecture\nRichard Kennedy Architects\nRSP\nShepley Bulfinch\nSmithGroup\nSuoll Architects\nTaz Khatri Studios\nWare Malcomb\n45 Architecture
URL:https://nomaarizona.org/event/3rd-annual-diversity-career-fair/
CATEGORIES:Networking,Professional Development
ATTACH;FMTTYPE=image/jpeg:https://nomaarizona.org/wp-content/uploads/2023/02/Diversity-Career-Fair-students-scaled.jpg
END:VEVENT
END:VCALENDAR