BEGIN:VCALENDAR
VERSION:2.0
PRODID:-//NOMA AZ - ECPv6.15.20//NONSGML v1.0//EN
CALSCALE:GREGORIAN
METHOD:PUBLISH
X-WR-CALNAME:NOMA AZ
X-ORIGINAL-URL:https://nomaarizona.org
X-WR-CALDESC:Events for NOMA AZ
REFRESH-INTERVAL;VALUE=DURATION:PT1H
X-Robots-Tag:noindex
X-PUBLISHED-TTL:PT1H
BEGIN:VTIMEZONE
TZID:America/Phoenix
BEGIN:STANDARD
TZOFFSETFROM:-0700
TZOFFSETTO:-0700
TZNAME:MST
DTSTART:20220101T000000
END:STANDARD
END:VTIMEZONE
BEGIN:VEVENT
DTSTART;TZID=America/Phoenix:20230213T180000
DTEND;TZID=America/Phoenix:20230213T191500
DTSTAMP:20260421T054545
CREATED:20230124T230831Z
LAST-MODIFIED:20230130T165426Z
UID:1219-1676311200-1676315700@nomaarizona.org
SUMMARY:Chapter Meeting — February 2023
DESCRIPTION:FREE event\nNon-members welcome\nComplimentary snacks + refreshments\nRSVP in-person\nRSVP ZOOM (if you are unable to attend in person)\n\nDATE CHANGE – normally chapter meetings are held on the 2nd Tuesday of the month. Due to Valentine’s day and Arizona’s birthday\, we thought we would give you the night off to accommodate any celebrations you may have for these special occasions. We moved the date of our chapter meeting to Monday\, February 13th. Same time – 6:00pm-7:15pm. \nJoin us at Henderson Engineers with our special guest Courtney Carter to discus preserving historic barrios sites in Phoenix followed by upcoming events\, committee happenings\, what we’ve been up to\, and the chance to raise your hand to get involved. Bring a friend – all are welcome. Member\, non-member\, student\, architect\, engineer\, manufacturer\, marketer — chapter meetings are open to all. \n\nGuest: Courtney Carter\, ACE\, Economic Development Program Manager at the City of Phoenix\nTopic: Preserving Historic Barrios Sites in Phoenix\nLocation: Henderson Engineers (the south building on the south east corner of Missouri and 16th St.)\nParking: On-surface parking lot between the 2 buildings – Henderson Engineers’ office is located on level 4\, take 2 rights off the elevators. (see photo below)\n\n \n  \n \n——- \nIf you would like to host a chapter meeting – please reach out to Maurita at president@nomaarizona.org
URL:https://nomaarizona.org/event/chapter-meeting-february-2023/
LOCATION:Henderson Engineers\, 5343 N 16th St\, Phoenix\, AZ\, 85016\, United States
CATEGORIES:Chapter Meeting
ATTACH;FMTTYPE=image/jpeg:https://nomaarizona.org/wp-content/uploads/2023/01/Chapter-Meeting-02-2023-scaled.jpg
END:VEVENT
END:VCALENDAR